BEGIN:VCALENDAR
VERSION:2.0
PRODID:concerti//https://www.concerti.de
CALSCALE:GREGORIAN
BEGIN:VTIMEZONE
TZID:Europe/Berlin
X-LIC-LOCATION:Europe/Berlin
BEGIN:DAYLIGHT
TZOFFSETFROM:+0100
TZOFFSETTO:+0200
TZNAME:CEST
DTSTART:19700329T020000
RRULE:FREQ=YEARLY;BYMONTH=3;BYDAY=-1SU
END:DAYLIGHT
BEGIN:STANDARD
TZOFFSETFROM:+0200
TZOFFSETTO:+0100
TZNAME:CET
DTSTART:19701025T030000
RRULE:FREQ=YEARLY;BYMONTH=10;BYDAY=-1SU
END:STANDARD
END:VTIMEZONE
BEGIN:VEVENT
UID:9858755d66b3997e4c323c973706fba5
SUMMARY:Weber: Der Freischütz
URL:https://www.concerti.de/termine/weber-der-freischuetz-staatsoper-hamburg-282323/
DTSTART;TZID=Europe/Berlin:20260503T190000
DTEND;TZID=Europe/Berlin:20260503T210000
DESCRIPTION:Der Jägersbursche Max möchte die Försterstochter Agathe heiraten\, muss zuvor aber eine Bewährungsprobe absolvieren. Während er beim Probeschießen immer danebentrifft und Unterstützung bei bösen Mächten sucht\, trifft Carl Maria von Weber mit der Uraufführung seiner Oper „Der Freischütz“ im Jahr 1821 voll ins Schwarze. Werke aus Italien und Frankreich dominieren seinerzeit die Spielpläne\, aber der Wunsch nach originär deutschen Stoffen ist groß – auch beim sächsischen König\, in dessen Diensten Weber steht. So ist seine romantische Gruseloper nach einem alten Gespensterbuch von Beginn an ein großer Erfolg und markiert den Startschuss für die „deutsche Nationaloper“. In Hamburg dirigiert Yoel ­Gamzou. [&hellip\;] \nInterpreten: Dovlet Nurgeldiyev (Max)\, Alexander Roslavets (Caspar)\, Jane Archibald (Agathe)\, Narea Son (Ännchen)\, Andrew Hamilton (Ottokar)\, Chao Deng (Kuno)\, Hubert Kowalczyk (Ein Eremit)\, Clemens Sienknecht (Samiel)\, Yoel Gamzou (Leitung)\, Andreas Kriegenburg (Regie) \nhttps://www.concerti.de/termine/weber-der-freischuetz-staatsoper-hamburg-282323/
LOCATION:Staatsoper Hamburg\, Dammtorstr. 28\, 20354 Hamburg
END:VEVENT
END:VCALENDAR