BEGIN:VCALENDAR
VERSION:2.0
PRODID:concerti//https://www.concerti.de
CALSCALE:GREGORIAN
BEGIN:VTIMEZONE
TZID:Europe/Berlin
X-LIC-LOCATION:Europe/Berlin
BEGIN:DAYLIGHT
TZOFFSETFROM:+0100
TZOFFSETTO:+0200
TZNAME:CEST
DTSTART:19700329T020000
RRULE:FREQ=YEARLY;BYMONTH=3;BYDAY=-1SU
END:DAYLIGHT
BEGIN:STANDARD
TZOFFSETFROM:+0200
TZOFFSETTO:+0100
TZNAME:CET
DTSTART:19701025T030000
RRULE:FREQ=YEARLY;BYMONTH=10;BYDAY=-1SU
END:STANDARD
END:VTIMEZONE
BEGIN:VEVENT
UID:814abe2b01c31bc6db822e145adb6755
SUMMARY:Bernstein: Mass
URL:https://www.concerti.de/termine/bernstein-mass-elbphilharmonie-641334/
DTSTART;TZID=Europe/Berlin:20260525T200000
DTEND;TZID=Europe/Berlin:20260525T220000
DESCRIPTION:Interpreten: Will Liverman (The Celebrant)\, Aphrodite Patoulidou (Sopran)\, Hamburger Alsterspatzen\, Hamburger Knabenchor\, Audi Jugendchorakademie\, Philharmonisches Staatsorchester Hamburg\, Omer Meir Wellber (Leitung) \nhttps://www.concerti.de/termine/bernstein-mass-elbphilharmonie-641334/
LOCATION:Elbphilharmonie\, Platz der Deutschen Einheit 1\, 20457 Hamburg
END:VEVENT
END:VCALENDAR