BEGIN:VCALENDAR
VERSION:2.0
PRODID:concerti//https://www.concerti.de
CALSCALE:GREGORIAN
BEGIN:VTIMEZONE
TZID:Europe/Berlin
X-LIC-LOCATION:Europe/Berlin
BEGIN:DAYLIGHT
TZOFFSETFROM:+0100
TZOFFSETTO:+0200
TZNAME:CEST
DTSTART:19700329T020000
RRULE:FREQ=YEARLY;BYMONTH=3;BYDAY=-1SU
END:DAYLIGHT
BEGIN:STANDARD
TZOFFSETFROM:+0200
TZOFFSETTO:+0100
TZNAME:CET
DTSTART:19701025T030000
RRULE:FREQ=YEARLY;BYMONTH=10;BYDAY=-1SU
END:STANDARD
END:VTIMEZONE
BEGIN:VEVENT
UID:1baeaef63dda6878211808f53f4d96d7
SUMMARY:Mozart: Così fan tutte
URL:https://www.concerti.de/termine/mozart-cosi-fan-tutte-444743/
DTSTART;TZID=Europe/Berlin:20260613T190000
DTEND;TZID=Europe/Berlin:20260613T210000
DESCRIPTION:Interpreten: Elsa Dreisig (Fiordiligi)\, Angela Brower (Dorabella)\, Peter Kellner (Guglielmo)\, Filipe Manu (Ferrando)\, Maria Nazarova (Despina)\, Christopher Maltman (Don Alfonso)\, Louis Langrée (Leitung)\, Barrie Kosky (Regie) \nhttps://www.concerti.de/termine/mozart-cosi-fan-tutte-444743/
LOCATION:Wiener Staatsoper\, Opernring 2\, 1010 Wien
END:VEVENT
END:VCALENDAR