BEGIN:VCALENDAR
VERSION:2.0
PRODID:concerti//https://www.concerti.de
CALSCALE:GREGORIAN
BEGIN:VTIMEZONE
TZID:Europe/Berlin
X-LIC-LOCATION:Europe/Berlin
BEGIN:DAYLIGHT
TZOFFSETFROM:+0100
TZOFFSETTO:+0200
TZNAME:CEST
DTSTART:19700329T020000
RRULE:FREQ=YEARLY;BYMONTH=3;BYDAY=-1SU
END:DAYLIGHT
BEGIN:STANDARD
TZOFFSETFROM:+0200
TZOFFSETTO:+0100
TZNAME:CET
DTSTART:19701025T030000
RRULE:FREQ=YEARLY;BYMONTH=10;BYDAY=-1SU
END:STANDARD
END:VTIMEZONE
BEGIN:VEVENT
UID:7803ac60c205ee92b4ccce7007f2e422
SUMMARY:Maria Ioudenitch (Violine), Roman Borisov (Klavier)
URL:https://www.concerti.de/termine/maria-ioudenitch-violine-roman-borisov-klavier-brucknerhaus-linz-681217/
DTSTART;TZID=Europe/Berlin:20260617T193000
DTEND;TZID=Europe/Berlin:20260617T213000
DESCRIPTION:Interpreten: Maria Ioudenitch (Violine)\, Roman Borisov (Klavier) \nProgramm: L. Boulanger: Nocturne & Cortège\, Prokofjew: Violinsonate Nr. 1 f-Moll op. 80\, Debussy: Violinsonate g-Moll\, Brahms: Violinsonate Nr. 3 d-Moll op. 108 \nhttps://www.concerti.de/termine/maria-ioudenitch-violine-roman-borisov-klavier-brucknerhaus-linz-681217/
LOCATION:Brucknerhaus Linz\, Untere Donaulände 7\, 4010 Linz
END:VEVENT
END:VCALENDAR