BEGIN:VCALENDAR
VERSION:2.0
PRODID:concerti//https://www.concerti.de
CALSCALE:GREGORIAN
BEGIN:VTIMEZONE
TZID:Europe/Berlin
X-LIC-LOCATION:Europe/Berlin
BEGIN:DAYLIGHT
TZOFFSETFROM:+0100
TZOFFSETTO:+0200
TZNAME:CEST
DTSTART:19700329T020000
RRULE:FREQ=YEARLY;BYMONTH=3;BYDAY=-1SU
END:DAYLIGHT
BEGIN:STANDARD
TZOFFSETFROM:+0200
TZOFFSETTO:+0100
TZNAME:CET
DTSTART:19701025T030000
RRULE:FREQ=YEARLY;BYMONTH=10;BYDAY=-1SU
END:STANDARD
END:VTIMEZONE
BEGIN:VEVENT
UID:54406a5d1f580e99cbbea5c94f4bc21f
SUMMARY:Benjamin Schmid (Violine), Damen des Singvereins der Gesellschaft der Musikfreunde in Wien, Orchester Wiener Akademie, Martin Haselböck (Leitung) - Musikverein Festival: Beethovens Spazierstock
URL:https://www.concerti.de/termine/benjamin-schmid-violine-damen-des-singvereins-der-gesellschaft-der-musikfreunde-in-wien-orchester-wiener-akademie-martin-haselboeck-leitung-wiener-musikverein-685250/
DTSTART;TZID=Europe/Berlin:20260426T153000
DTEND;TZID=Europe/Berlin:20260426T173000
DESCRIPTION:Interpreten: Benjamin Schmid (Violine)\, Damen des Singvereins der Gesellschaft der Musikfreunde in Wien\, Orchester Wiener Akademie\, Martin Haselböck (Leitung) \nProgramm: Paganini: Violinkonzert Nr. 2 h-Moll op. 7 „La Campanella“\, Liszt: Sinfonie zu „Divina Commedia“ \nhttps://www.concerti.de/termine/benjamin-schmid-violine-damen-des-singvereins-der-gesellschaft-der-musikfreunde-in-wien-orchester-wiener-akademie-martin-haselboeck-leitung-wiener-musikverein-685250/
LOCATION:Wiener Musikverein\, Musikvereinspl. 1\, 1010 Wien
END:VEVENT
END:VCALENDAR