BEGIN:VCALENDAR
VERSION:2.0
PRODID:concerti//https://www.concerti.de
CALSCALE:GREGORIAN
BEGIN:VTIMEZONE
TZID:Europe/Berlin
X-LIC-LOCATION:Europe/Berlin
BEGIN:DAYLIGHT
TZOFFSETFROM:+0100
TZOFFSETTO:+0200
TZNAME:CEST
DTSTART:19700329T020000
RRULE:FREQ=YEARLY;BYMONTH=3;BYDAY=-1SU
END:DAYLIGHT
BEGIN:STANDARD
TZOFFSETFROM:+0200
TZOFFSETTO:+0100
TZNAME:CET
DTSTART:19701025T030000
RRULE:FREQ=YEARLY;BYMONTH=10;BYDAY=-1SU
END:STANDARD
END:VTIMEZONE
BEGIN:VEVENT
UID:62f5d2b1c0e331564e9da69df32f3c4f
SUMMARY:Patricia Nolz (Mezzoaopran), Malcolm Martineau (Klavier)
URL:https://www.concerti.de/termine/patricia-nolz-mezzoaopran-malcolm-martineau-klavier-wiener-musikverein-685364/
DTSTART;TZID=Europe/Berlin:20260529T193000
DTEND;TZID=Europe/Berlin:20260529T213000
DESCRIPTION:Interpreten: Patricia Nolz (Mezzoaopran)\, Malcolm Martineau (Klavier) \nProgramm: Schumann: Liederkreis op. 39\, Werke von Brahms\, Mahler & Zemlinsky \nhttps://www.concerti.de/termine/patricia-nolz-mezzoaopran-malcolm-martineau-klavier-wiener-musikverein-685364/
LOCATION:Wiener Musikverein\, Musikvereinspl. 1\, 1010 Wien
END:VEVENT
END:VCALENDAR