BEGIN:VCALENDAR
VERSION:2.0
PRODID:concerti//https://www.concerti.de
CALSCALE:GREGORIAN
BEGIN:VTIMEZONE
TZID:Europe/Berlin
X-LIC-LOCATION:Europe/Berlin
BEGIN:DAYLIGHT
TZOFFSETFROM:+0100
TZOFFSETTO:+0200
TZNAME:CEST
DTSTART:19700329T020000
RRULE:FREQ=YEARLY;BYMONTH=3;BYDAY=-1SU
END:DAYLIGHT
BEGIN:STANDARD
TZOFFSETFROM:+0200
TZOFFSETTO:+0100
TZNAME:CET
DTSTART:19701025T030000
RRULE:FREQ=YEARLY;BYMONTH=10;BYDAY=-1SU
END:STANDARD
END:VTIMEZONE
BEGIN:VEVENT
UID:e460def3bdb323fa7cf94330bc623bc0
SUMMARY:J. S. Bach: Goldberg-Variationen BWV 988
URL:https://www.concerti.de/termine/j-s-bach-goldbergvariationen-bwv-988-686877/
DTSTART;TZID=Europe/Berlin:20260530T200000
DTEND;TZID=Europe/Berlin:20260530T220000
DESCRIPTION:Interpreten: Evgeni Koroliov (Klavier) \nhttps://www.concerti.de/termine/j-s-bach-goldbergvariationen-bwv-988-686877/
LOCATION:Villa Papendorf\, Papendorf
END:VEVENT
END:VCALENDAR