BEGIN:VCALENDAR
VERSION:2.0
PRODID:concerti//https://www.concerti.de
CALSCALE:GREGORIAN
BEGIN:VTIMEZONE
TZID:Europe/Berlin
X-LIC-LOCATION:Europe/Berlin
BEGIN:DAYLIGHT
TZOFFSETFROM:+0100
TZOFFSETTO:+0200
TZNAME:CEST
DTSTART:19700329T020000
RRULE:FREQ=YEARLY;BYMONTH=3;BYDAY=-1SU
END:DAYLIGHT
BEGIN:STANDARD
TZOFFSETFROM:+0200
TZOFFSETTO:+0100
TZNAME:CET
DTSTART:19701025T030000
RRULE:FREQ=YEARLY;BYMONTH=10;BYDAY=-1SU
END:STANDARD
END:VTIMEZONE
BEGIN:VEVENT
UID:27292b5367756a8cb6fbced5d520719c
SUMMARY:Sol Gabetta (Violoncello), Tschechische Philharmonie, Semyon Bychkov (Leitung)
URL:https://www.concerti.de/termine/sol-gabetta-violoncello-tschechische-philharmonie-semyon-bychkov-leitung-tonhalle-duesseldorf-691410/
DTSTART;TZID=Europe/Berlin:20260427T200000
DTEND;TZID=Europe/Berlin:20260427T220000
DESCRIPTION:Interpreten: Sol Gabetta (Violoncello)\, Tschechische Philharmonie\, Semyon Bychkov (Leitung) \nProgramm: Dvořák: Karneval op. 92\, Elgar: Cellokonzert e-Moll op. 85\, Strawinsky: Le Sacre du printemps \nhttps://www.concerti.de/termine/sol-gabetta-violoncello-tschechische-philharmonie-semyon-bychkov-leitung-tonhalle-duesseldorf-691410/
LOCATION:Tonhalle Düsseldorf\, Ehrenhof 1\, 40479 Düsseldorf
END:VEVENT
END:VCALENDAR