BEGIN:VCALENDAR
VERSION:2.0
PRODID:concerti//https://www.concerti.de
CALSCALE:GREGORIAN
BEGIN:VTIMEZONE
TZID:Europe/Berlin
X-LIC-LOCATION:Europe/Berlin
BEGIN:DAYLIGHT
TZOFFSETFROM:+0100
TZOFFSETTO:+0200
TZNAME:CEST
DTSTART:19700329T020000
RRULE:FREQ=YEARLY;BYMONTH=3;BYDAY=-1SU
END:DAYLIGHT
BEGIN:STANDARD
TZOFFSETFROM:+0200
TZOFFSETTO:+0100
TZNAME:CET
DTSTART:19701025T030000
RRULE:FREQ=YEARLY;BYMONTH=10;BYDAY=-1SU
END:STANDARD
END:VTIMEZONE
BEGIN:VEVENT
UID:3ea8f853af8fe018a8591e6e3ec7b398
SUMMARY:Rossini: Die Reise nach Reims
URL:https://www.concerti.de/termine/rossini-die-reise-nach-reims-landestheater-detmold-694520/
DTSTART;TZID=Europe/Berlin:20260426T193000
DTEND;TZID=Europe/Berlin:20260426T213000
DESCRIPTION:Interpreten: Per-Otto Johansson (Leitung)\, Dominik Wilgenbus (Regie) \nhttps://www.concerti.de/termine/rossini-die-reise-nach-reims-landestheater-detmold-694520/
LOCATION:Landestheater Detmold\, Theaterpl. 1\, 32756 Detmold
END:VEVENT
END:VCALENDAR