BEGIN:VCALENDAR
VERSION:2.0
PRODID:concerti//https://www.concerti.de
CALSCALE:GREGORIAN
BEGIN:VTIMEZONE
TZID:Europe/Berlin
X-LIC-LOCATION:Europe/Berlin
BEGIN:DAYLIGHT
TZOFFSETFROM:+0100
TZOFFSETTO:+0200
TZNAME:CEST
DTSTART:19700329T020000
RRULE:FREQ=YEARLY;BYMONTH=3;BYDAY=-1SU
END:DAYLIGHT
BEGIN:STANDARD
TZOFFSETFROM:+0200
TZOFFSETTO:+0100
TZNAME:CET
DTSTART:19701025T030000
RRULE:FREQ=YEARLY;BYMONTH=10;BYDAY=-1SU
END:STANDARD
END:VTIMEZONE
BEGIN:VEVENT
UID:083d9f9b1028feec3d5f7007d79b7bc4
SUMMARY:Giorgi Gigashvili (Klavier), Münchner Philharmoniker, Alain Altinoglu (Leitung)
URL:https://www.concerti.de/termine/giorgi-gigashvili-klavier-muenchner-philharmoniker-alain-altinoglu-leitung-isarphilharmonie-695173/
DTSTART;TZID=Europe/Berlin:20260529T193000
DTEND;TZID=Europe/Berlin:20260529T213000
DESCRIPTION:Interpreten: Giorgi Gigashvili (Klavier)\, Münchner Philharmoniker\, Alain Altinoglu (Leitung) \nProgramm: Mussorgski/Schostakowitsch: Vorspiel zu „Chowanschtschina“\, Chatschaturjan: Klavierkonzert Des-Dur\, Bizet: L’Arlésienne-Suiten Nr. 1 & Nr. 2 \nhttps://www.concerti.de/termine/giorgi-gigashvili-klavier-muenchner-philharmoniker-alain-altinoglu-leitung-isarphilharmonie-695173/
LOCATION:Isarphilharmonie\, Hans-Preißinger-Straße 8\, 81379 München
END:VEVENT
END:VCALENDAR