BEGIN:VCALENDAR
VERSION:2.0
PRODID:concerti//https://www.concerti.de
CALSCALE:GREGORIAN
BEGIN:VTIMEZONE
TZID:Europe/Berlin
X-LIC-LOCATION:Europe/Berlin
BEGIN:DAYLIGHT
TZOFFSETFROM:+0100
TZOFFSETTO:+0200
TZNAME:CEST
DTSTART:19700329T020000
RRULE:FREQ=YEARLY;BYMONTH=3;BYDAY=-1SU
END:DAYLIGHT
BEGIN:STANDARD
TZOFFSETFROM:+0200
TZOFFSETTO:+0100
TZNAME:CET
DTSTART:19701025T030000
RRULE:FREQ=YEARLY;BYMONTH=10;BYDAY=-1SU
END:STANDARD
END:VTIMEZONE
BEGIN:VEVENT
UID:4e03e1beafa35cbad6ffda48c472c651
SUMMARY:Alexandra Gruber (Klarinette), Münchner Philharmoniker, Zubin Mehta (Leitung)
URL:https://www.concerti.de/termine/alexandra-gruber-klarinette-muenchner-philharmoniker-zubin-mehta-leitung-isarphilharmonie-695184/
DTSTART;TZID=Europe/Berlin:20260620T190000
DTEND;TZID=Europe/Berlin:20260620T210000
DESCRIPTION:Interpreten: Alexandra Gruber (Klarinette)\, Münchner Philharmoniker\, Zubin Mehta (Leitung) \nProgramm: Mozart: Klarinettenkonzert A-Dur KV 622\, Bruckner: Sinfonie Nr. 9 d-Moll \nhttps://www.concerti.de/termine/alexandra-gruber-klarinette-muenchner-philharmoniker-zubin-mehta-leitung-isarphilharmonie-695184/
LOCATION:Isarphilharmonie\, Hans-Preißinger-Straße 8\, 81379 München
END:VEVENT
END:VCALENDAR