BEGIN:VCALENDAR
VERSION:2.0
PRODID:concerti//https://www.concerti.de
CALSCALE:GREGORIAN
BEGIN:VTIMEZONE
TZID:Europe/Berlin
X-LIC-LOCATION:Europe/Berlin
BEGIN:DAYLIGHT
TZOFFSETFROM:+0100
TZOFFSETTO:+0200
TZNAME:CEST
DTSTART:19700329T020000
RRULE:FREQ=YEARLY;BYMONTH=3;BYDAY=-1SU
END:DAYLIGHT
BEGIN:STANDARD
TZOFFSETFROM:+0200
TZOFFSETTO:+0100
TZNAME:CET
DTSTART:19701025T030000
RRULE:FREQ=YEARLY;BYMONTH=10;BYDAY=-1SU
END:STANDARD
END:VTIMEZONE
BEGIN:VEVENT
UID:cd2230c3ea65a2222d7845e3a00d3d40
SUMMARY:Janine Jansen (Violine), Münchner Philharmoniker, Lahav Shani (Leitung) - Klassik am Odeonsplatz
URL:https://www.concerti.de/termine/janine-jansen-violine-muenchner-philharmoniker-lahav-shani-leitung-695201/
DTSTART;TZID=Europe/Berlin:20260712T200000
DTEND;TZID=Europe/Berlin:20260712T220000
DESCRIPTION:Interpreten: Janine Jansen (Violine)\, Münchner Philharmoniker\, Lahav Shani (Leitung) \nhttps://www.concerti.de/termine/janine-jansen-violine-muenchner-philharmoniker-lahav-shani-leitung-695201/
LOCATION:Odeonsplatz\, München
END:VEVENT
END:VCALENDAR