BEGIN:VCALENDAR
VERSION:2.0
PRODID:concerti//https://www.concerti.de
CALSCALE:GREGORIAN
BEGIN:VTIMEZONE
TZID:Europe/Berlin
X-LIC-LOCATION:Europe/Berlin
BEGIN:DAYLIGHT
TZOFFSETFROM:+0100
TZOFFSETTO:+0200
TZNAME:CEST
DTSTART:19700329T020000
RRULE:FREQ=YEARLY;BYMONTH=3;BYDAY=-1SU
END:DAYLIGHT
BEGIN:STANDARD
TZOFFSETFROM:+0200
TZOFFSETTO:+0100
TZNAME:CET
DTSTART:19701025T030000
RRULE:FREQ=YEARLY;BYMONTH=10;BYDAY=-1SU
END:STANDARD
END:VTIMEZONE
BEGIN:VEVENT
UID:e445237e1a3deca5c5ed509c1ad0ca75
SUMMARY:Tabea Zimmermann (Viola), Thomas Hoppe (Klavier)
URL:https://www.concerti.de/termine/tabea-zimmermann-viola-thomas-hoppe-klavier-686078/
DTSTART;TZID=Europe/Berlin:20260616T193000
DTEND;TZID=Europe/Berlin:20260616T213000
DESCRIPTION:Interpreten: Tabea Zimmermann (Viola)\, Thomas Hoppe (Klavier) \nProgramm: Hummel: Violasonate Es-Dur op. 5/3\, Brahms: Violiasonate Nr. 1 G-Dur op. 78\, Reger: Violasonate B-Dur op. 107 \nhttps://www.concerti.de/termine/tabea-zimmermann-viola-thomas-hoppe-klavier-686078/
LOCATION:Hochschule für Musik Freiburg\, Schwarzwaldstraße 141\, 79102 Freiburg
END:VEVENT
END:VCALENDAR