BEGIN:VCALENDAR
VERSION:2.0
PRODID:concerti//https://www.concerti.de
CALSCALE:GREGORIAN
BEGIN:VTIMEZONE
TZID:Europe/Berlin
X-LIC-LOCATION:Europe/Berlin
BEGIN:DAYLIGHT
TZOFFSETFROM:+0100
TZOFFSETTO:+0200
TZNAME:CEST
DTSTART:19700329T020000
RRULE:FREQ=YEARLY;BYMONTH=3;BYDAY=-1SU
END:DAYLIGHT
BEGIN:STANDARD
TZOFFSETFROM:+0200
TZOFFSETTO:+0100
TZNAME:CET
DTSTART:19701025T030000
RRULE:FREQ=YEARLY;BYMONTH=10;BYDAY=-1SU
END:STANDARD
END:VTIMEZONE
BEGIN:VEVENT
UID:b84a453829ff371dc204b89a2cf828bf
SUMMARY:Florin Iliescu (Violine), hr-Sinfonieorchester, Ton Koopman (Orgel &amp; Leitung)
URL:https://www.concerti.de/termine/florin-iliescu-violine-hr-sinfonieorchester-ton-koopman-orgel-leitung-hr-sendesaal-698353/
DTSTART;TZID=Europe/Berlin:20260514T190000
DTEND;TZID=Europe/Berlin:20260514T210000
DESCRIPTION:Interpreten: Florin Iliescu (Violine)\, hr-Sinfonieorchester\, Ton Koopman (Orgel & Leitung) \nProgramm: Händel: Concerto a due cori HWV 332 & Orgelkonzert g-Moll op. 4/1\, Haydn: Doppelkonzert F-Dur & Sinfonie Nr. 80 d-Moll \nhttps://www.concerti.de/termine/florin-iliescu-violine-hr-sinfonieorchester-ton-koopman-orgel-leitung-hr-sendesaal-698353/
LOCATION:hr-Sendesaal\, Bertramstraße 8\, 60320 Frankfurt (Main)
END:VEVENT
END:VCALENDAR