BEGIN:VCALENDAR
VERSION:2.0
PRODID:concerti//https://www.concerti.de
CALSCALE:GREGORIAN
BEGIN:VTIMEZONE
TZID:Europe/Berlin
X-LIC-LOCATION:Europe/Berlin
BEGIN:DAYLIGHT
TZOFFSETFROM:+0100
TZOFFSETTO:+0200
TZNAME:CEST
DTSTART:19700329T020000
RRULE:FREQ=YEARLY;BYMONTH=3;BYDAY=-1SU
END:DAYLIGHT
BEGIN:STANDARD
TZOFFSETFROM:+0200
TZOFFSETTO:+0100
TZNAME:CET
DTSTART:19701025T030000
RRULE:FREQ=YEARLY;BYMONTH=10;BYDAY=-1SU
END:STANDARD
END:VTIMEZONE
BEGIN:VEVENT
UID:15e5601e25c008a82a3e61f938d3fedd
SUMMARY:Boris Giltburg (Klavier), hr-Sinfonieorchester, Kahchun Wong (Leitung)
URL:https://www.concerti.de/termine/boris-giltburg-klavier-hr-sinfonieorchester-kahchun-wong-leitung-hr-sendesaal-698362/
DTSTART;TZID=Europe/Berlin:20260521T190000
DTEND;TZID=Europe/Berlin:20260521T210000
DESCRIPTION:Interpreten: Boris Giltburg (Klavier)\, hr-Sinfonieorchester\, Kahchun Wong (Leitung) \nProgramm: Schostakowitsch: Festliche Ouvertüre\, Klavierkonzert Nr. 2 F-Dur op. 102 & Sinfonie d-Moll op. 47 \nhttps://www.concerti.de/termine/boris-giltburg-klavier-hr-sinfonieorchester-kahchun-wong-leitung-hr-sendesaal-698362/
LOCATION:hr-Sendesaal\, Bertramstraße 8\, 60320 Frankfurt (Main)
END:VEVENT
END:VCALENDAR