BEGIN:VCALENDAR
VERSION:2.0
PRODID:concerti//https://www.concerti.de
CALSCALE:GREGORIAN
BEGIN:VTIMEZONE
TZID:Europe/Berlin
X-LIC-LOCATION:Europe/Berlin
BEGIN:DAYLIGHT
TZOFFSETFROM:+0100
TZOFFSETTO:+0200
TZNAME:CEST
DTSTART:19700329T020000
RRULE:FREQ=YEARLY;BYMONTH=3;BYDAY=-1SU
END:DAYLIGHT
BEGIN:STANDARD
TZOFFSETFROM:+0200
TZOFFSETTO:+0100
TZNAME:CET
DTSTART:19701025T030000
RRULE:FREQ=YEARLY;BYMONTH=10;BYDAY=-1SU
END:STANDARD
END:VTIMEZONE
BEGIN:VEVENT
UID:fe70d7b53dd9e7ef565b845f8d0ef26e
SUMMARY:Tomaž Močilnik (Klarinette), hr-Sinfonieorchester, Stephanie Childress (Leitung) - Quick & Classy
URL:https://www.concerti.de/termine/tomaz-mocilnik-klarinette-hr-sinfonieorchester-stephanie-childress-leitung-hr-sendesaal-698371/
DTSTART;TZID=Europe/Berlin:20260603T190000
DTEND;TZID=Europe/Berlin:20260603T210000
DESCRIPTION:Interpreten: Tomaž Močilnik (Klarinette)\, hr-Sinfonieorchester\, Stephanie Childress (Leitung) \nProgramm: Mozart: Klarinettenkonzert A-Dur KV 622\, Schumann: Sinfonie Nr. 3 Es-Dur op. 97 „Rheinische“ \nhttps://www.concerti.de/termine/tomaz-mocilnik-klarinette-hr-sinfonieorchester-stephanie-childress-leitung-hr-sendesaal-698371/
LOCATION:hr-Sendesaal\, Bertramstraße 8\, 60320 Frankfurt (Main)
END:VEVENT
END:VCALENDAR