BEGIN:VCALENDAR
VERSION:2.0
PRODID:concerti//https://www.concerti.de
CALSCALE:GREGORIAN
BEGIN:VTIMEZONE
TZID:Europe/Berlin
X-LIC-LOCATION:Europe/Berlin
BEGIN:DAYLIGHT
TZOFFSETFROM:+0100
TZOFFSETTO:+0200
TZNAME:CEST
DTSTART:19700329T020000
RRULE:FREQ=YEARLY;BYMONTH=3;BYDAY=-1SU
END:DAYLIGHT
BEGIN:STANDARD
TZOFFSETFROM:+0200
TZOFFSETTO:+0100
TZNAME:CET
DTSTART:19701025T030000
RRULE:FREQ=YEARLY;BYMONTH=10;BYDAY=-1SU
END:STANDARD
END:VTIMEZONE
BEGIN:VEVENT
UID:a604acb4f2e1764082eb357cdd21a329
SUMMARY:Konstellationen - Münchner Opernfestspiele
URL:https://www.concerti.de/termine/konstellationen-prinzregententheater-701959/
DTSTART;TZID=Europe/Berlin:20260622T193000
DTEND;TZID=Europe/Berlin:20260622T213000
DESCRIPTION:Interpreten: Marius Petipa (Choreografie)\, Jacques Garnier (Choreografie)\, Angelin Preljocaj (Choreografie)\, Sol León (Choreografie)\, Paul Lightfoot (Choreografie)\, Edward Clug (Choreografie) \nhttps://www.concerti.de/termine/konstellationen-prinzregententheater-701959/
LOCATION:Prinzregententheater München\, Prinzregentenplatz 12\, 81675 München
END:VEVENT
END:VCALENDAR