BEGIN:VCALENDAR
VERSION:2.0
PRODID:concerti//https://www.concerti.de
CALSCALE:GREGORIAN
BEGIN:VTIMEZONE
TZID:Europe/Berlin
X-LIC-LOCATION:Europe/Berlin
BEGIN:DAYLIGHT
TZOFFSETFROM:+0100
TZOFFSETTO:+0200
TZNAME:CEST
DTSTART:19700329T020000
RRULE:FREQ=YEARLY;BYMONTH=3;BYDAY=-1SU
END:DAYLIGHT
BEGIN:STANDARD
TZOFFSETFROM:+0200
TZOFFSETTO:+0100
TZNAME:CET
DTSTART:19701025T030000
RRULE:FREQ=YEARLY;BYMONTH=10;BYDAY=-1SU
END:STANDARD
END:VTIMEZONE
BEGIN:VEVENT
UID:8c5c4e96c3ea23a8f945ec6f4ace5af9
SUMMARY:Dean: Of One Blood - Münchner Opernfestspiele
URL:https://www.concerti.de/termine/dean-of-one-blood-bayerische-staatsoper-702007/
DTSTART;TZID=Europe/Berlin:20260627T190000
DTEND;TZID=Europe/Berlin:20260627T210000
DESCRIPTION:Interpreten: Johanni van Oostrum (Queen Elizabeth)\, Vera-Lotte Boecker (Mary Stuart)\, Freya Apffelstaedt (Jane Kennedy & Female Consort V)\, Liam Bonthrone (Lord Darnley & Male Consort I)\, Mahan Esfahani (Cembalo)\, Vladimir Jurowski (Leitung)\, Claus Guth (Regie) \nhttps://www.concerti.de/termine/dean-of-one-blood-bayerische-staatsoper-702007/
LOCATION:Bayerische Staatsoper\, Max-Joseph-Platz 2\, 80539 München
END:VEVENT
END:VCALENDAR