BEGIN:VCALENDAR
VERSION:2.0
PRODID:concerti//https://www.concerti.de
CALSCALE:GREGORIAN
BEGIN:VTIMEZONE
TZID:Europe/Berlin
X-LIC-LOCATION:Europe/Berlin
BEGIN:DAYLIGHT
TZOFFSETFROM:+0100
TZOFFSETTO:+0200
TZNAME:CEST
DTSTART:19700329T020000
RRULE:FREQ=YEARLY;BYMONTH=3;BYDAY=-1SU
END:DAYLIGHT
BEGIN:STANDARD
TZOFFSETFROM:+0200
TZOFFSETTO:+0100
TZNAME:CET
DTSTART:19701025T030000
RRULE:FREQ=YEARLY;BYMONTH=10;BYDAY=-1SU
END:STANDARD
END:VTIMEZONE
BEGIN:VEVENT
UID:88c1e51cb4bf910960c1deacd907ee79
SUMMARY:Puccini: Turandot - Münchner Opernfestspiele
URL:https://www.concerti.de/termine/puccini-turandot-bayerische-staatsoper-702076/
DTSTART;TZID=Europe/Berlin:20260706T190000
DTEND;TZID=Europe/Berlin:20260706T210000
DESCRIPTION:Interpreten: Olga Maslova (Turandot)\, Kevin Conners (Altoum)\, Dmitry Ulyanov (Timur)\, Jonas Kaufmann (Calaf)\, Ermonela Jaho (Liù)\, 	\nZubin Mehta (Leitung)\, Carlus Padrissa (Regie) \nhttps://www.concerti.de/termine/puccini-turandot-bayerische-staatsoper-702076/
LOCATION:Bayerische Staatsoper\, Max-Joseph-Platz 2\, 80539 München
END:VEVENT
END:VCALENDAR