BEGIN:VCALENDAR
VERSION:2.0
PRODID:concerti//https://www.concerti.de
CALSCALE:GREGORIAN
BEGIN:VTIMEZONE
TZID:Europe/Berlin
X-LIC-LOCATION:Europe/Berlin
BEGIN:DAYLIGHT
TZOFFSETFROM:+0100
TZOFFSETTO:+0200
TZNAME:CEST
DTSTART:19700329T020000
RRULE:FREQ=YEARLY;BYMONTH=3;BYDAY=-1SU
END:DAYLIGHT
BEGIN:STANDARD
TZOFFSETFROM:+0200
TZOFFSETTO:+0100
TZNAME:CET
DTSTART:19701025T030000
RRULE:FREQ=YEARLY;BYMONTH=10;BYDAY=-1SU
END:STANDARD
END:VTIMEZONE
BEGIN:VEVENT
UID:edb6486bb71bf025af22760087a1b158
SUMMARY:Hanna-Elisabeth Müller (Sopran), Matjaž Bogataj (Violine), Hanna Asieieva (Violine), Clemens Gordon (Viola), Johanna Maurer (Viola), Yves Savary (Violoncello), Benedikt Don Strohmeier (Violoncello), Christoph Traxler (Klavier), - Münchner Opernfestspiele
URL:https://www.concerti.de/termine/hanna-elisabeth-mueller-sopran-matjaz-bogataj-violine-hanna-asieieva-violine-clemens-gordon-viola-johanna-maurer-viola-yves-savary-violoncello-benedikt-don-strohmeier-violoncello-702154/
DTSTART;TZID=Europe/Berlin:20260716T200000
DTEND;TZID=Europe/Berlin:20260716T220000
DESCRIPTION:Interpreten: Hanna-Elisabeth Müller (Sopran)\, Matjaž Bogataj (Violine)\, Hanna Asieieva (Violine)\, Clemens Gordon (Viola)\, Johanna Maurer (Viola)\, Yves Savary (Violoncello)\, Benedikt Don Strohmeier (Violoncello)\, Christoph Traxler (Klavier)\, \nProgramm: Zemlinsky: Maiblumen blühten überall\, Wagner/Peternel: Wesendonck-Lieder\, Schönberg: Verklärte Nacht op. 4 \nhttps://www.concerti.de/termine/hanna-elisabeth-mueller-sopran-matjaz-bogataj-violine-hanna-asieieva-violine-clemens-gordon-viola-johanna-maurer-viola-yves-savary-violoncello-benedikt-don-strohmeier-violoncello-702154/
LOCATION:Residenz München\, Residenzstraße 1\, 80333 München
END:VEVENT
END:VCALENDAR