BEGIN:VCALENDAR
VERSION:2.0
PRODID:concerti//https://www.concerti.de
CALSCALE:GREGORIAN
BEGIN:VTIMEZONE
TZID:Europe/Berlin
X-LIC-LOCATION:Europe/Berlin
BEGIN:DAYLIGHT
TZOFFSETFROM:+0100
TZOFFSETTO:+0200
TZNAME:CEST
DTSTART:19700329T020000
RRULE:FREQ=YEARLY;BYMONTH=3;BYDAY=-1SU
END:DAYLIGHT
BEGIN:STANDARD
TZOFFSETFROM:+0200
TZOFFSETTO:+0100
TZNAME:CET
DTSTART:19701025T030000
RRULE:FREQ=YEARLY;BYMONTH=10;BYDAY=-1SU
END:STANDARD
END:VTIMEZONE
BEGIN:VEVENT
UID:989e3654650dd3fede84d5f06eefc7bf
SUMMARY:Diana Damrau (Sopran), Helmut Deutsch (Klavier) - Münchner Opernfestspiele: Festspiel-Liederabend
URL:https://www.concerti.de/termine/diana-damrau-sopran-helmut-deutsch-klavier-bayerische-staatsoper-702171/
DTSTART;TZID=Europe/Berlin:20260722T200000
DTEND;TZID=Europe/Berlin:20260722T220000
DESCRIPTION:Interpreten: Diana Damrau (Sopran)\, Helmut Deutsch (Klavier) \nhttps://www.concerti.de/termine/diana-damrau-sopran-helmut-deutsch-klavier-bayerische-staatsoper-702171/
LOCATION:Bayerische Staatsoper\, Max-Joseph-Platz 2\, 80539 München
END:VEVENT
END:VCALENDAR