BEGIN:VCALENDAR
VERSION:2.0
PRODID:concerti//https://www.concerti.de
CALSCALE:GREGORIAN
BEGIN:VTIMEZONE
TZID:Europe/Berlin
X-LIC-LOCATION:Europe/Berlin
BEGIN:DAYLIGHT
TZOFFSETFROM:+0100
TZOFFSETTO:+0200
TZNAME:CEST
DTSTART:19700329T020000
RRULE:FREQ=YEARLY;BYMONTH=3;BYDAY=-1SU
END:DAYLIGHT
BEGIN:STANDARD
TZOFFSETFROM:+0200
TZOFFSETTO:+0100
TZNAME:CET
DTSTART:19701025T030000
RRULE:FREQ=YEARLY;BYMONTH=10;BYDAY=-1SU
END:STANDARD
END:VTIMEZONE
BEGIN:VEVENT
UID:e851bbaec158687af392d0c32470ce95
SUMMARY:Verdi: Rigoletto - Münchner Opernfestspiele
URL:https://www.concerti.de/termine/verdi-rigoletto-bayerische-staatsoper-702196/
DTSTART;TZID=Europe/Berlin:20260728T190000
DTEND;TZID=Europe/Berlin:20260728T210000
DESCRIPTION:Interpreten: Bekhzod Davronov (Il Duca di Mantova)\, Igor Golovatenko (Rigoletto)\, Serena Sáenz (Gilda)\, Riccardo Fassi (Sparafucile)\, Elmina Hasan (Maddalena)\, Maurizio Benini (Leitung)\, Barbara Wysocka (Regie) \nhttps://www.concerti.de/termine/verdi-rigoletto-bayerische-staatsoper-702196/
LOCATION:Bayerische Staatsoper\, Max-Joseph-Platz 2\, 80539 München
END:VEVENT
END:VCALENDAR