BEGIN:VCALENDAR
VERSION:2.0
PRODID:concerti//https://www.concerti.de
CALSCALE:GREGORIAN
BEGIN:VTIMEZONE
TZID:Europe/Berlin
X-LIC-LOCATION:Europe/Berlin
BEGIN:DAYLIGHT
TZOFFSETFROM:+0100
TZOFFSETTO:+0200
TZNAME:CEST
DTSTART:19700329T020000
RRULE:FREQ=YEARLY;BYMONTH=3;BYDAY=-1SU
END:DAYLIGHT
BEGIN:STANDARD
TZOFFSETFROM:+0200
TZOFFSETTO:+0100
TZNAME:CET
DTSTART:19701025T030000
RRULE:FREQ=YEARLY;BYMONTH=10;BYDAY=-1SU
END:STANDARD
END:VTIMEZONE
BEGIN:VEVENT
UID:758f4aeb27709bc49b40df78c52b3efc
SUMMARY:Symphonieorchester des Bayerischen Rundfunks, Simon Rattle (Leitung)
URL:https://www.concerti.de/termine/symphonieorchester-des-bayerischen-rundfunks-simon-rattle-leitung-meistersingerhalle-702368/
DTSTART;TZID=Europe/Berlin:20260510T190000
DTEND;TZID=Europe/Berlin:20260510T210000
DESCRIPTION:Interpreten: Symphonieorchester des Bayerischen Rundfunks\, Simon Rattle (Leitung) \nProgramm: Schumann: Sinfonie Nr. 2 C-Dur op. 61\, Strawinsky: Der Feuervogel \nhttps://www.concerti.de/termine/symphonieorchester-des-bayerischen-rundfunks-simon-rattle-leitung-meistersingerhalle-702368/
LOCATION:Meistersingerhalle Nürnberg\, Münchener Straße 21\, 90478 Nürnberg
END:VEVENT
END:VCALENDAR