BEGIN:VCALENDAR
VERSION:2.0
PRODID:concerti//https://www.concerti.de
CALSCALE:GREGORIAN
BEGIN:VTIMEZONE
TZID:Europe/Berlin
X-LIC-LOCATION:Europe/Berlin
BEGIN:DAYLIGHT
TZOFFSETFROM:+0100
TZOFFSETTO:+0200
TZNAME:CEST
DTSTART:19700329T020000
RRULE:FREQ=YEARLY;BYMONTH=3;BYDAY=-1SU
END:DAYLIGHT
BEGIN:STANDARD
TZOFFSETFROM:+0200
TZOFFSETTO:+0100
TZNAME:CET
DTSTART:19701025T030000
RRULE:FREQ=YEARLY;BYMONTH=10;BYDAY=-1SU
END:STANDARD
END:VTIMEZONE
BEGIN:VEVENT
UID:2508abb94fb54c794a6648f50106670a
SUMMARY:Alice Sara Ott (Klavier), Konzerthausorchester Berlin, Joana Mallwitz (Leitung)
URL:https://www.concerti.de/termine/alice-sara-ott-klavier-konzerthausorchester-berlin-joana-mallwitz-leitung-meistersingerhalle-702371/
DTSTART;TZID=Europe/Berlin:20260530T200000
DTEND;TZID=Europe/Berlin:20260530T220000
DESCRIPTION:Interpreten: Alice Sara Ott (Klavier)\, Konzerthausorchester Berlin\, Joana Mallwitz (Leitung) \nProgramm: Beethoven: Klavierkonzert Nr. 3 c-Moll op. 37\, Mahler: Sinfonie Nr. 5 cis-Moll \nhttps://www.concerti.de/termine/alice-sara-ott-klavier-konzerthausorchester-berlin-joana-mallwitz-leitung-meistersingerhalle-702371/
LOCATION:Meistersingerhalle Nürnberg\, Münchener Straße 21\, 90478 Nürnberg
END:VEVENT
END:VCALENDAR