BEGIN:VCALENDAR
VERSION:2.0
PRODID:concerti//https://www.concerti.de
CALSCALE:GREGORIAN
BEGIN:VTIMEZONE
TZID:Europe/Berlin
X-LIC-LOCATION:Europe/Berlin
BEGIN:DAYLIGHT
TZOFFSETFROM:+0100
TZOFFSETTO:+0200
TZNAME:CEST
DTSTART:19700329T020000
RRULE:FREQ=YEARLY;BYMONTH=3;BYDAY=-1SU
END:DAYLIGHT
BEGIN:STANDARD
TZOFFSETFROM:+0200
TZOFFSETTO:+0100
TZNAME:CET
DTSTART:19701025T030000
RRULE:FREQ=YEARLY;BYMONTH=10;BYDAY=-1SU
END:STANDARD
END:VTIMEZONE
BEGIN:VEVENT
UID:3f247ef6fa5e33affddaf37f0c68a75f
SUMMARY:Yoav Levanon (Klavier), WDR Sinfonieorchester, Constantinos Carydis (Leitung)
URL:https://www.concerti.de/termine/yoav-levanon-klavier-wdr-sinfonieorchester-constantinos-carydis-leitung-konzerthaus-dortmund-711473/
DTSTART;TZID=Europe/Berlin:20260517T160000
DTEND;TZID=Europe/Berlin:20260517T180000
DESCRIPTION:Interpreten: Yoav Levanon (Klavier)\, WDR Sinfonieorchester\, Constantinos Carydis (Leitung) \nProgramm: Koukos: Prooimion\, Liszt: Klavierkonzert Nr. 1 Es-Dur\, Schostakowitsch: Sinfonie Nr. 5 d-Moll op. 47 \nhttps://www.concerti.de/termine/yoav-levanon-klavier-wdr-sinfonieorchester-constantinos-carydis-leitung-konzerthaus-dortmund-711473/
LOCATION:Konzerthaus Dortmund\, Brückstraße 21\, 44135 Dortmund
END:VEVENT
END:VCALENDAR