BEGIN:VCALENDAR
VERSION:2.0
PRODID:concerti//https://www.concerti.de
CALSCALE:GREGORIAN
BEGIN:VTIMEZONE
TZID:Europe/Berlin
X-LIC-LOCATION:Europe/Berlin
BEGIN:DAYLIGHT
TZOFFSETFROM:+0100
TZOFFSETTO:+0200
TZNAME:CEST
DTSTART:19700329T020000
RRULE:FREQ=YEARLY;BYMONTH=3;BYDAY=-1SU
END:DAYLIGHT
BEGIN:STANDARD
TZOFFSETFROM:+0200
TZOFFSETTO:+0100
TZNAME:CET
DTSTART:19701025T030000
RRULE:FREQ=YEARLY;BYMONTH=10;BYDAY=-1SU
END:STANDARD
END:VTIMEZONE
BEGIN:VEVENT
UID:476150c33ef28f8c343a83758440223a
SUMMARY:Renaud Capuçon (Violine), Symphonieorchester des Bayerischen Rundfunks, Osmo Vänskä (Leitung)
URL:https://www.concerti.de/termine/renaud-capucon-violine-symphonieorchester-des-bayerischen-rundfunks-osmo-vaenskae-leitung-isarphilharmonie-705112/
DTSTART;TZID=Europe/Berlin:20260430T200000
DTEND;TZID=Europe/Berlin:20260430T220000
DESCRIPTION:Interpreten: Renaud Capuçon (Violine)\, Symphonieorchester des Bayerischen Rundfunks\, Osmo Vänskä (Leitung) \nProgramm: Moussa: Elysium\, Barber: Violinkonzert op. 14\, Sibelius: Sinfonie Nr. 1 e-Moll op. 39 \nhttps://www.concerti.de/termine/renaud-capucon-violine-symphonieorchester-des-bayerischen-rundfunks-osmo-vaenskae-leitung-isarphilharmonie-705112/
LOCATION:Isarphilharmonie\, Hans-Preißinger-Straße 8\, 81379 München
END:VEVENT
END:VCALENDAR