BEGIN:VCALENDAR
VERSION:2.0
PRODID:concerti//https://www.concerti.de
CALSCALE:GREGORIAN
BEGIN:VTIMEZONE
TZID:Europe/Berlin
X-LIC-LOCATION:Europe/Berlin
BEGIN:DAYLIGHT
TZOFFSETFROM:+0100
TZOFFSETTO:+0200
TZNAME:CEST
DTSTART:19700329T020000
RRULE:FREQ=YEARLY;BYMONTH=3;BYDAY=-1SU
END:DAYLIGHT
BEGIN:STANDARD
TZOFFSETFROM:+0200
TZOFFSETTO:+0100
TZNAME:CET
DTSTART:19701025T030000
RRULE:FREQ=YEARLY;BYMONTH=10;BYDAY=-1SU
END:STANDARD
END:VTIMEZONE
BEGIN:VEVENT
UID:ecfe019324b7245f5ca96ee264967c94
SUMMARY:Magdalena Kožená (Mezzosopran), Symphonieorchester des Bayerischen Rundfunks, Simon Rattle (Leitung)
URL:https://www.concerti.de/termine/magdalena-kozena-mezzosopran-symphonieorchester-des-bayerischen-rundfunks-simon-rattle-leitung-isarphilharmonie-705119/
DTSTART;TZID=Europe/Berlin:20260509T190000
DTEND;TZID=Europe/Berlin:20260509T210000
DESCRIPTION:Interpreten: Magdalena Kožená (Mezzosopran)\, Symphonieorchester des Bayerischen Rundfunks\, Simon Rattle (Leitung) \nProgramm: Haydn: Sinfonie D-Dur Hob. I:86\, Adámek: Where Are You\, Brahms: Sinfonie Nr. 4 e-Moll op. 98 \nhttps://www.concerti.de/termine/magdalena-kozena-mezzosopran-symphonieorchester-des-bayerischen-rundfunks-simon-rattle-leitung-isarphilharmonie-705119/
LOCATION:Isarphilharmonie\, Hans-Preißinger-Straße 8\, 81379 München
END:VEVENT
END:VCALENDAR