BEGIN:VCALENDAR
VERSION:2.0
PRODID:concerti//https://www.concerti.de
CALSCALE:GREGORIAN
BEGIN:VTIMEZONE
TZID:Europe/Berlin
X-LIC-LOCATION:Europe/Berlin
BEGIN:DAYLIGHT
TZOFFSETFROM:+0100
TZOFFSETTO:+0200
TZNAME:CEST
DTSTART:19700329T020000
RRULE:FREQ=YEARLY;BYMONTH=3;BYDAY=-1SU
END:DAYLIGHT
BEGIN:STANDARD
TZOFFSETFROM:+0200
TZOFFSETTO:+0100
TZNAME:CET
DTSTART:19701025T030000
RRULE:FREQ=YEARLY;BYMONTH=10;BYDAY=-1SU
END:STANDARD
END:VTIMEZONE
BEGIN:VEVENT
UID:cafd44f81f811c669b5062c39fe4ec17
SUMMARY:Christoph Sietzen (Schlagwerk), Symphonieorchester des Bayerischen Rundfunks, Santtu-Matias Rouvali (Leitung)
URL:https://www.concerti.de/termine/christoph-sietzen-schlagwerk-symphonieorchester-des-bayerischen-rundfunks-santtu-matias-rouvali-leitung-isarphilharmonie-705124/
DTSTART;TZID=Europe/Berlin:20260522T200000
DTEND;TZID=Europe/Berlin:20260522T220000
DESCRIPTION:Interpreten: Christoph Sietzen (Schlagwerk)\, Symphonieorchester des Bayerischen Rundfunks\, Santtu-Matias Rouvali (Leitung) \nProgramm: Staud: Whereas the Reality Trembles\, Nielsen: Ouvertüre zu „Maskarade“\, Sibelius: Sinfonie Nr. 3 C-Dur op. 52 \nhttps://www.concerti.de/termine/christoph-sietzen-schlagwerk-symphonieorchester-des-bayerischen-rundfunks-santtu-matias-rouvali-leitung-isarphilharmonie-705124/
LOCATION:Isarphilharmonie\, Hans-Preißinger-Straße 8\, 81379 München
END:VEVENT
END:VCALENDAR