BEGIN:VCALENDAR
VERSION:2.0
PRODID:concerti//https://www.concerti.de
CALSCALE:GREGORIAN
BEGIN:VTIMEZONE
TZID:Europe/Berlin
X-LIC-LOCATION:Europe/Berlin
BEGIN:DAYLIGHT
TZOFFSETFROM:+0100
TZOFFSETTO:+0200
TZNAME:CEST
DTSTART:19700329T020000
RRULE:FREQ=YEARLY;BYMONTH=3;BYDAY=-1SU
END:DAYLIGHT
BEGIN:STANDARD
TZOFFSETFROM:+0200
TZOFFSETTO:+0100
TZNAME:CET
DTSTART:19701025T030000
RRULE:FREQ=YEARLY;BYMONTH=10;BYDAY=-1SU
END:STANDARD
END:VTIMEZONE
BEGIN:VEVENT
UID:137a0294428783d3cbbd758534f003d0
SUMMARY:Aušrinė Stundytė (Sopran), Kristi Mühling (Kannel), Tamara Stefanovich (Klavier), Symphonieorchester des Bayerischen Rundfunks, Matthias Pintscher (Leitung)
URL:https://www.concerti.de/termine/ausrine-stundyte-sopran-kristi-muehling-kannel-tamara-stefanovich-klavier-symphonieorchester-des-bayerischen-rundfunks-matthias-pintscher-leitung-residenz-muenchen-705128/
DTSTART;TZID=Europe/Berlin:20260612T200000
DTEND;TZID=Europe/Berlin:20260612T220000
DESCRIPTION:Interpreten: Aušrinė Stundytė (Sopran)\, Kristi Mühling (Kannel)\, Tamara Stefanovich (Klavier)\, Symphonieorchester des Bayerischen Rundfunks\, Matthias Pintscher (Leitung) \nProgramm: Streich: Dunkellila (EA)\, Reinvere: Das Lied von den zwei Erden (UA)\, Henze: Heliogabalus Imperator \nhttps://www.concerti.de/termine/ausrine-stundyte-sopran-kristi-muehling-kannel-tamara-stefanovich-klavier-symphonieorchester-des-bayerischen-rundfunks-matthias-pintscher-leitung-residenz-muenchen-705128/
LOCATION:Residenz München\, Residenzstraße 1\, 80333 München
END:VEVENT
END:VCALENDAR