BEGIN:VCALENDAR
VERSION:2.0
PRODID:concerti//https://www.concerti.de
CALSCALE:GREGORIAN
BEGIN:VTIMEZONE
TZID:Europe/Berlin
X-LIC-LOCATION:Europe/Berlin
BEGIN:DAYLIGHT
TZOFFSETFROM:+0100
TZOFFSETTO:+0200
TZNAME:CEST
DTSTART:19700329T020000
RRULE:FREQ=YEARLY;BYMONTH=3;BYDAY=-1SU
END:DAYLIGHT
BEGIN:STANDARD
TZOFFSETFROM:+0200
TZOFFSETTO:+0100
TZNAME:CET
DTSTART:19701025T030000
RRULE:FREQ=YEARLY;BYMONTH=10;BYDAY=-1SU
END:STANDARD
END:VTIMEZONE
BEGIN:VEVENT
UID:457710ce9beadf22ad086398573d857c
SUMMARY:Elgar: The Dream of Gerontius op. 38
URL:https://www.concerti.de/termine/elgar-the-dream-of-gerontius-op-38-residenz-muenchen-705135/
DTSTART;TZID=Europe/Berlin:20260621T150000
DTEND;TZID=Europe/Berlin:20260621T170000
DESCRIPTION:Interpreten: Alice Coote (Mezzosopran)\, Nicky Spence (Tenor)\, Lester Lynch (Bariton)\, Chor des Bayerischen Rundfunks\, Symphonieorchester des Bayerischen Rundfunks\, Simon Rattle (Leitung) \nhttps://www.concerti.de/termine/elgar-the-dream-of-gerontius-op-38-residenz-muenchen-705135/
LOCATION:Basilika St. Alexander und St. Theodor\, Ottobeuren
END:VEVENT
END:VCALENDAR