BEGIN:VCALENDAR
VERSION:2.0
PRODID:concerti//https://www.concerti.de
CALSCALE:GREGORIAN
BEGIN:VTIMEZONE
TZID:Europe/Berlin
X-LIC-LOCATION:Europe/Berlin
BEGIN:DAYLIGHT
TZOFFSETFROM:+0100
TZOFFSETTO:+0200
TZNAME:CEST
DTSTART:19700329T020000
RRULE:FREQ=YEARLY;BYMONTH=3;BYDAY=-1SU
END:DAYLIGHT
BEGIN:STANDARD
TZOFFSETFROM:+0200
TZOFFSETTO:+0100
TZNAME:CET
DTSTART:19701025T030000
RRULE:FREQ=YEARLY;BYMONTH=10;BYDAY=-1SU
END:STANDARD
END:VTIMEZONE
BEGIN:VEVENT
UID:2d3042e88cd4742b65c40f5fd095ba65
SUMMARY:Zubin Mehta zum 90., Rudolf Buchbinder zum 80.
URL:https://www.concerti.de/termine/zubin-mehta-zum-90-rudolf-buchbinder-zum-80-residenz-muenchen-705141/
DTSTART;TZID=Europe/Berlin:20260625T200000
DTEND;TZID=Europe/Berlin:20260625T220000
DESCRIPTION:„Ich kenne ihn\, seit er mit kurzen Hosen im Wiener Musikverein aufgetreten ist und bin seither sein Nr.-1-Fan“\, schrieb Zubin Mehta in einem Brief über Rudolf Buchbinder. Beide studierten einst in Wien\, 1983 standen sie erstmals gemeinsam auf der Bühne. Anlässlich ihrer runden Geburtstage 2026 – der Maestro wird neunzig\, der Pianist achtzig – sind sie gemeinsam in München zu erleben. \nInterpreten: Rudolf Buchbinder (Klavier)\, Symphonieorchester des Bayerischen Rundfunks\, Zubin Mehta (Leitung) \nProgramm: Wagner: Rienzi-Ouvertüre\, Beethoven: Klavierkonzert Nr. 3 c-Moll op. 37\, R. Strauss: Also sprach Zarathustra \nhttps://www.concerti.de/termine/zubin-mehta-zum-90-rudolf-buchbinder-zum-80-residenz-muenchen-705141/
LOCATION:Residenz München\, Residenzstraße 1\, 80333 München
END:VEVENT
END:VCALENDAR