BEGIN:VCALENDAR
VERSION:2.0
PRODID:concerti//https://www.concerti.de
CALSCALE:GREGORIAN
BEGIN:VTIMEZONE
TZID:Europe/Berlin
X-LIC-LOCATION:Europe/Berlin
BEGIN:DAYLIGHT
TZOFFSETFROM:+0100
TZOFFSETTO:+0200
TZNAME:CEST
DTSTART:19700329T020000
RRULE:FREQ=YEARLY;BYMONTH=3;BYDAY=-1SU
END:DAYLIGHT
BEGIN:STANDARD
TZOFFSETFROM:+0200
TZOFFSETTO:+0100
TZNAME:CET
DTSTART:19701025T030000
RRULE:FREQ=YEARLY;BYMONTH=10;BYDAY=-1SU
END:STANDARD
END:VTIMEZONE
BEGIN:VEVENT
UID:f7dfde0ded8be22891b735275c5cb590
SUMMARY:Henrik Wiese (Flöte), Ramón Ortega Quero (Oboe), Marco Postinghel (Fagott), Imogen Cooper (Klavier), Symphonieorchester des Bayerischen Rundfunks, Simon Rattle (Leitung)
URL:https://www.concerti.de/termine/henrik-wiese-floete-ramon-ortega-quero-oboe-marco-postinghel-fagott-imogen-cooper-klavier-symphonieorchester-des-bayerischen-rundfunks-simon-rattle-leitung-residenz-muenchen-705149/
DTSTART;TZID=Europe/Berlin:20260702T200000
DTEND;TZID=Europe/Berlin:20260702T220000
DESCRIPTION:Interpreten: Henrik Wiese (Flöte)\, Ramón Ortega Quero (Oboe)\, Marco Postinghel (Fagott)\, Imogen Cooper (Klavier)\, Symphonieorchester des Bayerischen Rundfunks\, Simon Rattle (Leitung) \nProgramm: Mozart: Klavierkonzert B-Dur KV 595\, Dutilleux/Hesketh: Sarabande et cortège\, Oboensonate & Flötensonate\, Haydn: Sinfonie Nr. 90 C-Dur Hob. I:90 \nhttps://www.concerti.de/termine/henrik-wiese-floete-ramon-ortega-quero-oboe-marco-postinghel-fagott-imogen-cooper-klavier-symphonieorchester-des-bayerischen-rundfunks-simon-rattle-leitung-residenz-muenchen-705149/
LOCATION:Residenz München\, Residenzstraße 1\, 80333 München
END:VEVENT
END:VCALENDAR