BEGIN:VCALENDAR
VERSION:2.0
PRODID:concerti//https://www.concerti.de
CALSCALE:GREGORIAN
BEGIN:VTIMEZONE
TZID:Europe/Berlin
X-LIC-LOCATION:Europe/Berlin
BEGIN:DAYLIGHT
TZOFFSETFROM:+0100
TZOFFSETTO:+0200
TZNAME:CEST
DTSTART:19700329T020000
RRULE:FREQ=YEARLY;BYMONTH=3;BYDAY=-1SU
END:DAYLIGHT
BEGIN:STANDARD
TZOFFSETFROM:+0200
TZOFFSETTO:+0100
TZNAME:CET
DTSTART:19701025T030000
RRULE:FREQ=YEARLY;BYMONTH=10;BYDAY=-1SU
END:STANDARD
END:VTIMEZONE
BEGIN:VEVENT
UID:56f6dc99bff223569be1022db2d7ce7e
SUMMARY:Orff: Carmina Burana - Mitsingkonzert
URL:https://www.concerti.de/termine/orff-carmina-burana-705152/
DTSTART;TZID=Europe/Berlin:20260705T170000
DTEND;TZID=Europe/Berlin:20260705T190000
DESCRIPTION:Interpreten: Chöre aus ganz Bayern\, Chor des Bayerischen Rundfunks\, Symponieorchester des Bayerischen Rundfunks\, Simon Rattle (Leitung) \nhttps://www.concerti.de/termine/orff-carmina-burana-705152/
LOCATION:Circus-Krone-Bau\, München
END:VEVENT
END:VCALENDAR