BEGIN:VCALENDAR
VERSION:2.0
PRODID:concerti//https://www.concerti.de
CALSCALE:GREGORIAN
BEGIN:VTIMEZONE
TZID:Europe/Berlin
X-LIC-LOCATION:Europe/Berlin
BEGIN:DAYLIGHT
TZOFFSETFROM:+0100
TZOFFSETTO:+0200
TZNAME:CEST
DTSTART:19700329T020000
RRULE:FREQ=YEARLY;BYMONTH=3;BYDAY=-1SU
END:DAYLIGHT
BEGIN:STANDARD
TZOFFSETFROM:+0200
TZOFFSETTO:+0100
TZNAME:CET
DTSTART:19701025T030000
RRULE:FREQ=YEARLY;BYMONTH=10;BYDAY=-1SU
END:STANDARD
END:VTIMEZONE
BEGIN:VEVENT
UID:a2b702dca6d27bb8f0577934d044ba4a
SUMMARY:Bernstein: West Side Story
URL:https://www.concerti.de/termine/bernstein-west-side-story-staatstheater-nuernberg-721371/
DTSTART;TZID=Europe/Berlin:20260720T190000
DTEND;TZID=Europe/Berlin:20260720T210000
DESCRIPTION:Interpreten: Veronika Loy (Maria)\, Tobias Joch (Tony)\, Laura Robinson (Anybodys)\, Maria Joachimstaller (Graziella)\, Tobias Link (Schrank)\, Roland Böer (Leitung)\, Melissa King (Regie) \nhttps://www.concerti.de/termine/bernstein-west-side-story-staatstheater-nuernberg-721371/
LOCATION:Staatstheater Nürnberg\, Richard-Wagner Platz 2-10\, 90443 Nürnberg
END:VEVENT
END:VCALENDAR