BEGIN:VCALENDAR
VERSION:2.0
PRODID:concerti//https://www.concerti.de
CALSCALE:GREGORIAN
BEGIN:VTIMEZONE
TZID:Europe/Berlin
X-LIC-LOCATION:Europe/Berlin
BEGIN:DAYLIGHT
TZOFFSETFROM:+0100
TZOFFSETTO:+0200
TZNAME:CEST
DTSTART:19700329T020000
RRULE:FREQ=YEARLY;BYMONTH=3;BYDAY=-1SU
END:DAYLIGHT
BEGIN:STANDARD
TZOFFSETFROM:+0200
TZOFFSETTO:+0100
TZNAME:CET
DTSTART:19701025T030000
RRULE:FREQ=YEARLY;BYMONTH=10;BYDAY=-1SU
END:STANDARD
END:VTIMEZONE
BEGIN:VEVENT
UID:8441da620a95630b67146b62b09f3e60
SUMMARY:New Ballets Russes
URL:https://www.concerti.de/termine/new-ballets-russes-staatstheater-nuernberg-721390/
DTSTART;TZID=Europe/Berlin:20260717T193000
DTEND;TZID=Europe/Berlin:20260717T213000
DESCRIPTION:Interpreten: Jan Croonenbroeck (Leitung)\, Richard Siegal (Choreografie) \nProgramm: Musik von Strawinsky \nhttps://www.concerti.de/termine/new-ballets-russes-staatstheater-nuernberg-721390/
LOCATION:Staatstheater Nürnberg\, Richard-Wagner Platz 2-10\, 90443 Nürnberg
END:VEVENT
END:VCALENDAR