BEGIN:VCALENDAR
VERSION:2.0
PRODID:concerti//https://www.concerti.de
CALSCALE:GREGORIAN
BEGIN:VTIMEZONE
TZID:Europe/Berlin
X-LIC-LOCATION:Europe/Berlin
BEGIN:DAYLIGHT
TZOFFSETFROM:+0100
TZOFFSETTO:+0200
TZNAME:CEST
DTSTART:19700329T020000
RRULE:FREQ=YEARLY;BYMONTH=3;BYDAY=-1SU
END:DAYLIGHT
BEGIN:STANDARD
TZOFFSETFROM:+0200
TZOFFSETTO:+0100
TZNAME:CET
DTSTART:19701025T030000
RRULE:FREQ=YEARLY;BYMONTH=10;BYDAY=-1SU
END:STANDARD
END:VTIMEZONE
BEGIN:VEVENT
UID:47c7b8084edc4902375cc6407ce26aad
SUMMARY:Hommage an Antonín Dvořák - Wort und Musik
URL:https://www.concerti.de/termine/hommage-an-antonin-dvorak-konzert-theater-coesfeld-721797/
DTSTART;TZID=Europe/Berlin:20260425T193000
DTEND;TZID=Europe/Berlin:20260425T213000
DESCRIPTION:Interpreten: Mayumi Kanagawa (Violine)\, Hideyo Harada (Klavier)\, Devid Striesow (Rezitation) \nProgramm: Werke von Dvořák \nhttps://www.concerti.de/termine/hommage-an-antonin-dvorak-konzert-theater-coesfeld-721797/
LOCATION:Konzert Theater Coesfeld\, Osterwicker Straße 31\, 48653 Coesfeld
END:VEVENT
END:VCALENDAR