BEGIN:VCALENDAR
VERSION:2.0
PRODID:concerti//https://www.concerti.de
CALSCALE:GREGORIAN
BEGIN:VTIMEZONE
TZID:Europe/Berlin
X-LIC-LOCATION:Europe/Berlin
BEGIN:DAYLIGHT
TZOFFSETFROM:+0100
TZOFFSETTO:+0200
TZNAME:CEST
DTSTART:19700329T020000
RRULE:FREQ=YEARLY;BYMONTH=3;BYDAY=-1SU
END:DAYLIGHT
BEGIN:STANDARD
TZOFFSETFROM:+0200
TZOFFSETTO:+0100
TZNAME:CET
DTSTART:19701025T030000
RRULE:FREQ=YEARLY;BYMONTH=10;BYDAY=-1SU
END:STANDARD
END:VTIMEZONE
BEGIN:VEVENT
UID:afc423c2df50ce72162ad067a6789cf3
SUMMARY:Orff: Carmina Burana
URL:https://www.concerti.de/termine/orff-carmina-burana-konzert-theater-coesfeld-721800/
DTSTART;TZID=Europe/Berlin:20260430T193000
DTEND;TZID=Europe/Berlin:20260430T213000
DESCRIPTION:Interpreten: Kamea Dance Company\, Tamir Ginz (Choreografie) \nhttps://www.concerti.de/termine/orff-carmina-burana-konzert-theater-coesfeld-721800/
LOCATION:Konzert Theater Coesfeld\, Osterwicker Straße 31\, 48653 Coesfeld
END:VEVENT
END:VCALENDAR