BEGIN:VCALENDAR
VERSION:2.0
PRODID:concerti//https://www.concerti.de
CALSCALE:GREGORIAN
BEGIN:VTIMEZONE
TZID:Europe/Berlin
X-LIC-LOCATION:Europe/Berlin
BEGIN:DAYLIGHT
TZOFFSETFROM:+0100
TZOFFSETTO:+0200
TZNAME:CEST
DTSTART:19700329T020000
RRULE:FREQ=YEARLY;BYMONTH=3;BYDAY=-1SU
END:DAYLIGHT
BEGIN:STANDARD
TZOFFSETFROM:+0200
TZOFFSETTO:+0100
TZNAME:CET
DTSTART:19701025T030000
RRULE:FREQ=YEARLY;BYMONTH=10;BYDAY=-1SU
END:STANDARD
END:VTIMEZONE
BEGIN:VEVENT
UID:77ef253fa3e7571c80f7d2eabae3fa54
SUMMARY:Groot Harmonie Orkest, Arnold Span (Leitung)
URL:https://www.concerti.de/termine/groot-harmonie-orkest-arnold-span-leitung-konzert-theater-coesfeld-721803/
DTSTART;TZID=Europe/Berlin:20260509T193000
DTEND;TZID=Europe/Berlin:20260509T213000
DESCRIPTION:Interpreten: Groot Harmonie Orkest\, Arnold Span (Leitung) \nhttps://www.concerti.de/termine/groot-harmonie-orkest-arnold-span-leitung-konzert-theater-coesfeld-721803/
LOCATION:Konzert Theater Coesfeld\, Osterwicker Straße 31\, 48653 Coesfeld
END:VEVENT
END:VCALENDAR