BEGIN:VCALENDAR
VERSION:2.0
PRODID:concerti//https://www.concerti.de
CALSCALE:GREGORIAN
BEGIN:VTIMEZONE
TZID:Europe/Berlin
X-LIC-LOCATION:Europe/Berlin
BEGIN:DAYLIGHT
TZOFFSETFROM:+0100
TZOFFSETTO:+0200
TZNAME:CEST
DTSTART:19700329T020000
RRULE:FREQ=YEARLY;BYMONTH=3;BYDAY=-1SU
END:DAYLIGHT
BEGIN:STANDARD
TZOFFSETFROM:+0200
TZOFFSETTO:+0100
TZNAME:CET
DTSTART:19701025T030000
RRULE:FREQ=YEARLY;BYMONTH=10;BYDAY=-1SU
END:STANDARD
END:VTIMEZONE
BEGIN:VEVENT
UID:d010d0d65dd623fced2b6c9bae9c0d61
SUMMARY:Musikschulchor, Sinfonieorchester Westmünsterland, Matthias Lichtenfeld (Leitung)
URL:https://www.concerti.de/termine/musikschulchor-sinfonieorchester-westmuensterland-matthias-lichtenfeld-leitung-konzert-theater-coesfeld-721806/
DTSTART;TZID=Europe/Berlin:20260524T180000
DTEND;TZID=Europe/Berlin:20260524T200000
DESCRIPTION:Interpreten: Musikschulchor\, Sinfonieorchester Westmünsterland\, Matthias Lichtenfeld (Leitung) \nProgramm: Bernstein: Somewhere aus „West Side Story“\, MacDermot: Aquarius & Let the Sunshine In aus „Hair“\, Nilsson: Gabriella‘s Song aus „Wie im Himmel“\, Cohen: Hallelujah aus „Shrek“\, C. Schönberg/Schneider: Les Misérables (Auszüge) u. a. \nhttps://www.concerti.de/termine/musikschulchor-sinfonieorchester-westmuensterland-matthias-lichtenfeld-leitung-konzert-theater-coesfeld-721806/
LOCATION:Konzert Theater Coesfeld\, Osterwicker Straße 31\, 48653 Coesfeld
END:VEVENT
END:VCALENDAR