BEGIN:VCALENDAR
VERSION:2.0
PRODID:concerti//https://www.concerti.de
CALSCALE:GREGORIAN
BEGIN:VTIMEZONE
TZID:Europe/Berlin
X-LIC-LOCATION:Europe/Berlin
BEGIN:DAYLIGHT
TZOFFSETFROM:+0100
TZOFFSETTO:+0200
TZNAME:CEST
DTSTART:19700329T020000
RRULE:FREQ=YEARLY;BYMONTH=3;BYDAY=-1SU
END:DAYLIGHT
BEGIN:STANDARD
TZOFFSETFROM:+0200
TZOFFSETTO:+0100
TZNAME:CET
DTSTART:19701025T030000
RRULE:FREQ=YEARLY;BYMONTH=10;BYDAY=-1SU
END:STANDARD
END:VTIMEZONE
BEGIN:VEVENT
UID:744cc1c31e8db9d8f0d5da9fae104fbc
SUMMARY:Bernstein: West Side Story
URL:https://www.concerti.de/termine/bernstein-west-side-story-konzert-theater-coesfeld-721809/
DTSTART;TZID=Europe/Berlin:20260528T193000
DTEND;TZID=Europe/Berlin:20260528T213000
DESCRIPTION:Interpreten: Steffen Müller-Gabriel (Leitung)\, Yara Hassan (Regie) \nhttps://www.concerti.de/termine/bernstein-west-side-story-konzert-theater-coesfeld-721809/
LOCATION:Konzert Theater Coesfeld\, Osterwicker Straße 31\, 48653 Coesfeld
END:VEVENT
END:VCALENDAR