BEGIN:VCALENDAR
VERSION:2.0
PRODID:concerti//https://www.concerti.de
CALSCALE:GREGORIAN
BEGIN:VTIMEZONE
TZID:Europe/Berlin
X-LIC-LOCATION:Europe/Berlin
BEGIN:DAYLIGHT
TZOFFSETFROM:+0100
TZOFFSETTO:+0200
TZNAME:CEST
DTSTART:19700329T020000
RRULE:FREQ=YEARLY;BYMONTH=3;BYDAY=-1SU
END:DAYLIGHT
BEGIN:STANDARD
TZOFFSETFROM:+0200
TZOFFSETTO:+0100
TZNAME:CET
DTSTART:19701025T030000
RRULE:FREQ=YEARLY;BYMONTH=10;BYDAY=-1SU
END:STANDARD
END:VTIMEZONE
BEGIN:VEVENT
UID:cf54171d6f0102278e8ab9e5b8fdf911
SUMMARY:Meisterwerke
URL:https://www.concerti.de/termine/meisterwerke-deutsche-oper-am-rhein-theater-duisburg-723279/
DTSTART;TZID=Europe/Berlin:20260510T110000
DTEND;TZID=Europe/Berlin:20260510T130000
DESCRIPTION:Interpreten: Duisburger Philharmoniker\, Sebastian Ludwig (Leitung) \nProgramm: Werke von Beethoven \nhttps://www.concerti.de/termine/meisterwerke-deutsche-oper-am-rhein-theater-duisburg-723279/
LOCATION:Theater Duisburg - Deutsche Oper am Rhein\, Opernplatz\, 47051 Duisburg
END:VEVENT
END:VCALENDAR