BEGIN:VCALENDAR
VERSION:2.0
PRODID:concerti//https://www.concerti.de
CALSCALE:GREGORIAN
BEGIN:VTIMEZONE
TZID:Europe/Berlin
X-LIC-LOCATION:Europe/Berlin
BEGIN:DAYLIGHT
TZOFFSETFROM:+0100
TZOFFSETTO:+0200
TZNAME:CEST
DTSTART:19700329T020000
RRULE:FREQ=YEARLY;BYMONTH=3;BYDAY=-1SU
END:DAYLIGHT
BEGIN:STANDARD
TZOFFSETFROM:+0200
TZOFFSETTO:+0100
TZNAME:CET
DTSTART:19701025T030000
RRULE:FREQ=YEARLY;BYMONTH=10;BYDAY=-1SU
END:STANDARD
END:VTIMEZONE
BEGIN:VEVENT
UID:443d3a4a79c109925fbe05b467fcb742
SUMMARY:Kinderchor am Rhein, Ensemble der Duisburger Philharmoniker, Sabina López Miguez  (Leitung)
URL:https://www.concerti.de/termine/kinderchor-am-rhein-ensemble-der-duisburger-philharmoniker-sabina-lopez-miguez-leitung-philharmonie-mercatorhalle-723326/
DTSTART;TZID=Europe/Berlin:20260628T140000
DTEND;TZID=Europe/Berlin:20260628T160000
DESCRIPTION:Interpreten: Kinderchor am Rhein\, Ensemble der Duisburger Philharmoniker\, Sabina López Miguez  (Leitung) \nhttps://www.concerti.de/termine/kinderchor-am-rhein-ensemble-der-duisburger-philharmoniker-sabina-lopez-miguez-leitung-philharmonie-mercatorhalle-723326/
LOCATION:Philharmonie Mercatorhalle\, Landfermannstraße 6\, 47051 Duisburg
END:VEVENT
END:VCALENDAR