BEGIN:VCALENDAR
VERSION:2.0
PRODID:concerti//https://www.concerti.de
CALSCALE:GREGORIAN
BEGIN:VTIMEZONE
TZID:Europe/Berlin
X-LIC-LOCATION:Europe/Berlin
BEGIN:DAYLIGHT
TZOFFSETFROM:+0100
TZOFFSETTO:+0200
TZNAME:CEST
DTSTART:19700329T020000
RRULE:FREQ=YEARLY;BYMONTH=3;BYDAY=-1SU
END:DAYLIGHT
BEGIN:STANDARD
TZOFFSETFROM:+0200
TZOFFSETTO:+0100
TZNAME:CET
DTSTART:19701025T030000
RRULE:FREQ=YEARLY;BYMONTH=10;BYDAY=-1SU
END:STANDARD
END:VTIMEZONE
BEGIN:VEVENT
UID:19416f191411f94ef0f2c1fda74900fc
SUMMARY:Eryu Feng (Violine), Johanna Klose (Violine), Lolla Süßmilch (Viola), Judith Bach (Viola), Oren Shevlin (Violoncello)
URL:https://www.concerti.de/termine/eryu-feng-violine-johanna-klose-violine-lolla-suessmilch-viola-judith-bach-viola-deutsche-oper-am-rhein-theater-duisburg-723336/
DTSTART;TZID=Europe/Berlin:20260712T110000
DTEND;TZID=Europe/Berlin:20260712T130000
DESCRIPTION:Interpreten: Eryu Feng (Violine)\, Johanna Klose (Violine)\, Lolla Süßmilch (Viola)\, Judith Bach (Viola)\, Oren Shevlin (Violoncello) \nProgramm: Mendelssohn: Streichquintett Nr. 1 A-Dur op. 18\, Brahms: Streichquintett Nr. 2 G-Dur op. 111 \nhttps://www.concerti.de/termine/eryu-feng-violine-johanna-klose-violine-lolla-suessmilch-viola-judith-bach-viola-deutsche-oper-am-rhein-theater-duisburg-723336/
LOCATION:Theater Duisburg - Deutsche Oper am Rhein\, Opernplatz\, 47051 Duisburg
END:VEVENT
END:VCALENDAR