BEGIN:VCALENDAR
VERSION:2.0
PRODID:concerti//https://www.concerti.de
CALSCALE:GREGORIAN
BEGIN:VTIMEZONE
TZID:Europe/Berlin
X-LIC-LOCATION:Europe/Berlin
BEGIN:DAYLIGHT
TZOFFSETFROM:+0100
TZOFFSETTO:+0200
TZNAME:CEST
DTSTART:19700329T020000
RRULE:FREQ=YEARLY;BYMONTH=3;BYDAY=-1SU
END:DAYLIGHT
BEGIN:STANDARD
TZOFFSETFROM:+0200
TZOFFSETTO:+0100
TZNAME:CET
DTSTART:19701025T030000
RRULE:FREQ=YEARLY;BYMONTH=10;BYDAY=-1SU
END:STANDARD
END:VTIMEZONE
BEGIN:VEVENT
UID:f6fb5e4593e432068306cb6a2ba9ed2a
SUMMARY:Emmanuel Pahud (Flöte), Swiss Orchestra, Lena-Lisa Wüstendörfer (Leitung)
URL:https://www.concerti.de/termine/emmanuel-pahud-floete-swiss-orchestra-lena-lisa-wuestendoerfer-leitung-725067/
DTSTART;TZID=Europe/Berlin:20260524T193000
DTEND;TZID=Europe/Berlin:20260524T213000
DESCRIPTION:Interpreten: Emmanuel Pahud (Flöte)\, Swiss Orchestra\, Lena-Lisa Wüstendörfer (Leitung) \nProgramm: Mozart: Ouvertüre zu „Don Giovanni“\, Dupuy: Flötenkonzert d-Moll\, Tschaikowsky: Arie des Lenski aus „Eugen Onegin“\, Beethoven: Sinfonie Nr. 5 c-Moll op. 67 \nhttps://www.concerti.de/termine/emmanuel-pahud-floete-swiss-orchestra-lena-lisa-wuestendoerfer-leitung-725067/
LOCATION:Konzerthalle\, Andermatt
END:VEVENT
END:VCALENDAR