BEGIN:VCALENDAR
VERSION:2.0
PRODID:concerti//https://www.concerti.de
CALSCALE:GREGORIAN
BEGIN:VTIMEZONE
TZID:Europe/Berlin
X-LIC-LOCATION:Europe/Berlin
BEGIN:DAYLIGHT
TZOFFSETFROM:+0100
TZOFFSETTO:+0200
TZNAME:CEST
DTSTART:19700329T020000
RRULE:FREQ=YEARLY;BYMONTH=3;BYDAY=-1SU
END:DAYLIGHT
BEGIN:STANDARD
TZOFFSETFROM:+0200
TZOFFSETTO:+0100
TZNAME:CET
DTSTART:19701025T030000
RRULE:FREQ=YEARLY;BYMONTH=10;BYDAY=-1SU
END:STANDARD
END:VTIMEZONE
BEGIN:VEVENT
UID:f6156c9f7ffdaa067e7dd6d00d46a139
SUMMARY:Ballettschule des Opernhauses Zürich
URL:https://www.concerti.de/termine/ballettschule-des-opernhauses-zuerich-opernhaus-zuerich-725158/
DTSTART;TZID=Europe/Berlin:20260711T110000
DTEND;TZID=Europe/Berlin:20260711T130000
DESCRIPTION:Interpreten: Ballettschule des Opernhauses Zürich \nhttps://www.concerti.de/termine/ballettschule-des-opernhauses-zuerich-opernhaus-zuerich-725158/
LOCATION:Opernhaus Zürich\, Falkenstrasse 1\, 8008 Zürich
END:VEVENT
END:VCALENDAR