BEGIN:VCALENDAR
VERSION:2.0
PRODID:concerti//https://www.concerti.de
CALSCALE:GREGORIAN
BEGIN:VTIMEZONE
TZID:Europe/Berlin
X-LIC-LOCATION:Europe/Berlin
BEGIN:DAYLIGHT
TZOFFSETFROM:+0100
TZOFFSETTO:+0200
TZNAME:CEST
DTSTART:19700329T020000
RRULE:FREQ=YEARLY;BYMONTH=3;BYDAY=-1SU
END:DAYLIGHT
BEGIN:STANDARD
TZOFFSETFROM:+0200
TZOFFSETTO:+0100
TZNAME:CET
DTSTART:19701025T030000
RRULE:FREQ=YEARLY;BYMONTH=10;BYDAY=-1SU
END:STANDARD
END:VTIMEZONE
BEGIN:VEVENT
UID:af62b19c252a36ead3831a1a3f21ed7f
SUMMARY:Schostakowitsch: Sinfonie Nr. 10 e-Moll op. 93
URL:https://www.concerti.de/termine/schostakowitsch-sinfonie-nr-10-e-moll-op-95-725708/
DTSTART;TZID=Europe/Berlin:20260502T163000
DTEND;TZID=Europe/Berlin:20260502T183000
DESCRIPTION:Interpreten: Bochumer Symphoniker\, Tung-Chieh Chuang (Leitung) \nhttps://www.concerti.de/termine/schostakowitsch-sinfonie-nr-10-e-moll-op-95-725708/
LOCATION:Schauspielhaus\, Bochum
END:VEVENT
END:VCALENDAR