BEGIN:VCALENDAR
VERSION:2.0
PRODID:concerti//https://www.concerti.de
CALSCALE:GREGORIAN
BEGIN:VTIMEZONE
TZID:Europe/Berlin
X-LIC-LOCATION:Europe/Berlin
BEGIN:DAYLIGHT
TZOFFSETFROM:+0100
TZOFFSETTO:+0200
TZNAME:CEST
DTSTART:19700329T020000
RRULE:FREQ=YEARLY;BYMONTH=3;BYDAY=-1SU
END:DAYLIGHT
BEGIN:STANDARD
TZOFFSETFROM:+0200
TZOFFSETTO:+0100
TZNAME:CET
DTSTART:19701025T030000
RRULE:FREQ=YEARLY;BYMONTH=10;BYDAY=-1SU
END:STANDARD
END:VTIMEZONE
BEGIN:VEVENT
UID:36542efa7d7f3399534e1381b17d9c7c
SUMMARY:Ning Feng (Violine), Bochumer Symphoniker, Tung-Chieh Chuang (Leitung)
URL:https://www.concerti.de/termine/ning-feng-violine-bochumer-symphoniker-tung-chieh-chuang-leitung-anneliese-brost-musikforum-ruhr-725714/
DTSTART;TZID=Europe/Berlin:20260502T200000
DTEND;TZID=Europe/Berlin:20260502T220000
DESCRIPTION:Interpreten: Ning Feng (Violine)\, Bochumer Symphoniker\, Tung-Chieh Chuang (Leitung) \nProgramm: Prokofjew: Ouvertüre über Hebräische Themen op. 34 & Violinkonzert Nr. 1 D-Dur op. 19\, Schostakowitsch: Sinfonie Nr. 10 e-Moll op. 93 \nhttps://www.concerti.de/termine/ning-feng-violine-bochumer-symphoniker-tung-chieh-chuang-leitung-anneliese-brost-musikforum-ruhr-725714/
LOCATION:Anneliese Brost Musikforum Ruhr Bochum\, Marienpl. 1\, 44787 Bochum
END:VEVENT
END:VCALENDAR