BEGIN:VCALENDAR
VERSION:2.0
PRODID:concerti//https://www.concerti.de
CALSCALE:GREGORIAN
BEGIN:VTIMEZONE
TZID:Europe/Berlin
X-LIC-LOCATION:Europe/Berlin
BEGIN:DAYLIGHT
TZOFFSETFROM:+0100
TZOFFSETTO:+0200
TZNAME:CEST
DTSTART:19700329T020000
RRULE:FREQ=YEARLY;BYMONTH=3;BYDAY=-1SU
END:DAYLIGHT
BEGIN:STANDARD
TZOFFSETFROM:+0200
TZOFFSETTO:+0100
TZNAME:CET
DTSTART:19701025T030000
RRULE:FREQ=YEARLY;BYMONTH=10;BYDAY=-1SU
END:STANDARD
END:VTIMEZONE
BEGIN:VEVENT
UID:20323459f68c771beeedba99176f0486
SUMMARY:Jeroen Berwaerts (Trompete), Bochumer Symphoniker, Jun Märkl (Leitung)
URL:https://www.concerti.de/termine/jeroen-berwaerts-trompete-bochumer-symphoniker-jun-maerkl-leitung-anneliese-brost-musikforum-ruhr-725720/
DTSTART;TZID=Europe/Berlin:20260514T200000
DTEND;TZID=Europe/Berlin:20260514T220000
DESCRIPTION:Interpreten: Jeroen Berwaerts (Trompete)\, Bochumer Symphoniker\, Jun Märkl (Leitung) \nProgramm: Pépin: Les Eaux célestes\, Hosokawa: Trompetenkonzert\, Brahms/Schönberg: Klavierquartett Nr. 1 g-Moll op. 25 \nhttps://www.concerti.de/termine/jeroen-berwaerts-trompete-bochumer-symphoniker-jun-maerkl-leitung-anneliese-brost-musikforum-ruhr-725720/
LOCATION:Anneliese Brost Musikforum Ruhr Bochum\, Marienpl. 1\, 44787 Bochum
END:VEVENT
END:VCALENDAR