BEGIN:VCALENDAR
VERSION:2.0
PRODID:concerti//https://www.concerti.de
CALSCALE:GREGORIAN
BEGIN:VTIMEZONE
TZID:Europe/Berlin
X-LIC-LOCATION:Europe/Berlin
BEGIN:DAYLIGHT
TZOFFSETFROM:+0100
TZOFFSETTO:+0200
TZNAME:CEST
DTSTART:19700329T020000
RRULE:FREQ=YEARLY;BYMONTH=3;BYDAY=-1SU
END:DAYLIGHT
BEGIN:STANDARD
TZOFFSETFROM:+0200
TZOFFSETTO:+0100
TZNAME:CET
DTSTART:19701025T030000
RRULE:FREQ=YEARLY;BYMONTH=10;BYDAY=-1SU
END:STANDARD
END:VTIMEZONE
BEGIN:VEVENT
UID:4f9901c63c70f0be4b81225baedf9626
SUMMARY:Alexandra Conunova (Violine), Bochumer Symphoniker, Gabriel Bebeșelea (Leitung)
URL:https://www.concerti.de/termine/alexandra-conunova-violine-bochumer-symphoniker-gabriel-bebeselea-leitung-anneliese-brost-musikforum-ruhr-725734/
DTSTART;TZID=Europe/Berlin:20260611T200000
DTEND;TZID=Europe/Berlin:20260611T220000
DESCRIPTION:Interpreten: Alexandra Conunova (Violine)\, Bochumer Symphoniker\, Gabriel Bebeșelea (Leitung) \nProgramm: Tabakova: Orpheu\'s Comet\, Beethoven: Violinkonzert D-Dur op. 61\, Beach: Gaelic Symphony e-Moll op. 32 \nhttps://www.concerti.de/termine/alexandra-conunova-violine-bochumer-symphoniker-gabriel-bebeselea-leitung-anneliese-brost-musikforum-ruhr-725734/
LOCATION:Anneliese Brost Musikforum Ruhr Bochum\, Marienpl. 1\, 44787 Bochum
END:VEVENT
END:VCALENDAR