BEGIN:VCALENDAR
VERSION:2.0
PRODID:concerti//https://www.concerti.de
CALSCALE:GREGORIAN
BEGIN:VTIMEZONE
TZID:Europe/Berlin
X-LIC-LOCATION:Europe/Berlin
BEGIN:DAYLIGHT
TZOFFSETFROM:+0100
TZOFFSETTO:+0200
TZNAME:CEST
DTSTART:19700329T020000
RRULE:FREQ=YEARLY;BYMONTH=3;BYDAY=-1SU
END:DAYLIGHT
BEGIN:STANDARD
TZOFFSETFROM:+0200
TZOFFSETTO:+0100
TZNAME:CET
DTSTART:19701025T030000
RRULE:FREQ=YEARLY;BYMONTH=10;BYDAY=-1SU
END:STANDARD
END:VTIMEZONE
BEGIN:VEVENT
UID:8c790bc4353eab4cb57402bd99e683d1
SUMMARY:Liza Ferschtman (Violine), Benjamin Hochman (Klavier), Curtis on Tour Ensemble
URL:https://www.concerti.de/termine/liza-ferschtman-violine-benjamin-hochman-klavier-curtis-on-tour-ensemble-die-glocke-bremen-726363/
DTSTART;TZID=Europe/Berlin:20260520T190000
DTEND;TZID=Europe/Berlin:20260520T210000
DESCRIPTION:Interpreten: Liza Ferschtman (Violine)\, Benjamin Hochman (Klavier)\, Curtis on Tour Ensemble \nProgramm: Martinů: Drei Madrigale\, Beethoven: Klaviertrio D-Dur op. 70/1\, Brahms: Klavierquintett f-Moll op. 34 \nhttps://www.concerti.de/termine/liza-ferschtman-violine-benjamin-hochman-klavier-curtis-on-tour-ensemble-die-glocke-bremen-726363/
LOCATION:Die Glocke Bremen\, Domsheide 4\, 28195 Bremen
END:VEVENT
END:VCALENDAR